BEGIN:VCALENDAR
VERSION:2.0
PRODID:-//Portal HR - HRtrendy.pl  - aktualności i wydarzenia HR. Nowości z rynku pracy - ECPv4.1.1.1//NONSGML v1.0//EN
CALSCALE:GREGORIAN
METHOD:PUBLISH
X-WR-CALNAME:Portal HR - HRtrendy.pl  - aktualności i wydarzenia HR. Nowości z rynku pracy
X-ORIGINAL-URL:https://www.hrtrendy.pl
X-WR-CALDESC:Events for Portal HR - HRtrendy.pl  - aktualności i wydarzenia HR. Nowości z rynku pracy
BEGIN:VEVENT
DTSTART;VALUE=DATE:20180919
DTEND;VALUE=DATE:20180920
DTSTAMP:20260425T030642
CREATED:20180629
LAST-MODIFIED:20180629
UID:17326-1537315200-1537487999@www.hrtrendy.pl
SUMMARY:Skuteczny dział HR w firmie produkcyjnej - pracownik 4.0. 
DESCRIPTION:Zapraszamy na VI edycję konferencji: „SKUTECZNY DZIAŁ HR W FIRMIE PRODUKCYJNEJ – PRACOWNIK 4.0”\, na której mamy co roku przyjemność gościć kadrę zarządzającą działami personalnymi firm produkcyjnych z dużych i średnich firm. Nasza konferencja stwarza Uczestnikom niepowtarzalną możliwość wymiany informacji na temat aktualnej sytuacji firm działających w sektorze produkcji z różnych branż. Pokazuje jakie wyzwania pojawiają się przed kadrą zarządzającą i jak należy reagować na nowe wyzwania rynku takie jak rosnące trudności z pozyskaniem i zatrzymaniem pracowników czy zmiany zachodzące w firmach produkcyjnych w związku z czwartą rewolucją przemysłową.\n\nW ramach konferencji przewidziano również wizyty w zakładach produkcyjnych:\n\nTCHIBO MANUFACTURING POLAND\n\n18 września 2018 r.\, Marki\n\nLABORATORIUM KOSMETYCZNE D IRENA ERIS\n\n21 września 2018 r.\, Piaseczno\nZagadnienia omawiane podczas konferencji:\n\n\tUdało się zatrudnić idealnego nowego kandydata z Indii\, Malezji\, Ameryki Łacińskiej\, Ukrainy – jak go wdrażać żeby budować jego lojalność do firmy\n\tSkuteczne narzędzia motywowania pracowników zza granicy na produkcji\n\tAkademia Lidera Produkcji\, czyli budowanie świadomości i umiejętności pracy menedżera\nw duchu kultury Lean\n\tEmpowerment – jako skuteczny sposób na budowanie zaangażowania i poprawy wyników\nw zespołach produkcyjnych\n\tZastosowanie testów psychologicznych jako narzędzia poprawiającego skuteczność selekcji kandydatów oraz działań rozwojowych pracowników\n\tJak wyprzedzać jutro – strategiczne planowanie działań HR w produkcji\n\tJak zarządzamy różnorodnością pokoleń w naszych firmach\n\tAktualne wyzwania w zakresie Zarządzania Zasobami Ludzki w firmach produkcyjnych – panel dyskusyjny\n\tInnowacje\, digitalizacja\, Przemysł 4.0 a Dział HR\n\tTworzenie kompletnego profilu kompetencyjno-behawioralnego stanowiska\n\tAbsencja – jak poradzić sobie z tym wyzwaniem – warsztat\n\tZwiększanie odpowiedzialności Operatorów – warsztat\n\tTu chodzi o Miliony! Elastyczne planowanie czasu pracy jako drugi core business firmy produkcyjne\n\n \n\nNIEPOWTARZALNA MOŻLIWOŚĆ WYMIANY DOŚWIADCZEŃ PODCZAS WARSZTATÓW\,\nPANELU DYSKUSYJNEGO ORAZ KOKTAJLU PO PIERWSZYM DNIU KONFERENCJI!\n\nKonferencja skierowana jest do:Członków Zarządu\, Dyrektorów: Personalnych\, ds. Zarządzania Zasobami Ludzkimi. ds. Kadr\, ds. Zarządzania Talentami; Menedżerów: Personalnych\, Szkoleń\, oraz wszystkich osób odpowiedzialnych za zarządzanie pracownikami w firmach produkcyjnych\n\n \n\nSponsorzy: Dehora\, Exence\n\n \n\nPatroni medialni: eGospodarka.pl\, HRtrendy.pl\, HRpolska.pl\n\nSerdecznie zapraszamy na naszą konferencję\, a osoby zainteresowane udziałem w wydarzeniu prosimy o kontakt: +48 22 458 66 10.
URL:https://www.hrtrendy.pl/wydarzenie_hr/skuteczny-dzial-hr-w-firmie-produkcyjnej-pracownik-4-0/
LOCATION:ul. Komitetu Obrony Robotników 24\, Warszawa
CATEGORIES:Konferencja
END:VEVENT
END:VCALENDAR