BEGIN:VCALENDAR
VERSION:2.0
PRODID:-//Portal HR - HRtrendy.pl  - aktualności i wydarzenia HR. Nowości z rynku pracy - ECPv4.1.1.1//NONSGML v1.0//EN
CALSCALE:GREGORIAN
METHOD:PUBLISH
X-WR-CALNAME:Portal HR - HRtrendy.pl  - aktualności i wydarzenia HR. Nowości z rynku pracy
X-ORIGINAL-URL:https://www.hrtrendy.pl
X-WR-CALDESC:Events for Portal HR - HRtrendy.pl  - aktualności i wydarzenia HR. Nowości z rynku pracy
BEGIN:VEVENT
DTSTART;TZID=Europe/Warsaw:20181203T090000
DTEND;TZID=Europe/Warsaw:20181203T170000
DTSTAMP:20260425T031246
CREATED:20181126T104920
LAST-MODIFIED:20181126T104920
UID:17577-1543827600-1543856400@www.hrtrendy.pl
SUMMARY:Pociąg do EB Warszawa
DESCRIPTION:Zapraszamy do wspólnej podróży pociągiem pełnym wiedzy\, praktycznych przykładów i inspiracji.\nPociąg do EB to cykl spotkań dla pasjonatów i praktyków EB. Wspólnie będziemy przemierzać różne miasta i zagadnienia związane employer brandingiem\, marketingiem rekrutacyjnym i komunikacją. Każda stacja to szansa na odkrycie czegoś nowego\, poszerzenie wiedzy\, zainspirowanie się\, znalezienie od dawna poszukiwanego rozwiązania\, a przede wszystkim spotkania ciekawych osób z branży i wymianę doświadczeń.\n\nRozkład jazdy:\n9.30-9.45: Rejestracja\n9.45-10.15: Case study – zaproszony gość\n10.15-11.15: 10 powodów\, dla których warto przygotować strategię EB  | Anna Macnar\, HRM Institute\n11.15-12.30: Dyskusja i networking \n\nUwaga! Wstęp na spotkanie jest bezpłatny. W przypadku gdy Uczestnik nie może uczestniczyć w spotkaniu\, zobowiązany jest przesłać informację o rezygnacji najpóźniej na trzy dni robocze przed datą wydarzenia\,na adres email: julia.bojanowska@hrminstitute.pl. Nieodwołanie zgłoszenia spowoduje obciążenie\nUczestnika/Zamawiającego kosztami organizacyjnymi w wysokości 100 zł netto.\n
URL:https://www.hrtrendy.pl/wydarzenie_hr/pociag-do-eb-warszawa/
LOCATION:ul. Jana Pawła II 22\, Warszawa
CATEGORIES:Konferencja
ATTACH;FMTTYPE=image/jpeg:https://www.hrtrendy.pl/wp-content/uploads/2018/11/Pociag_EB_konfeo.jpg
END:VEVENT
END:VCALENDAR