BEGIN:VCALENDAR
VERSION:2.0
PRODID:-//Portal HR - HRtrendy.pl  - aktualności i wydarzenia HR. Nowości z rynku pracy - ECPv4.1.1.1//NONSGML v1.0//EN
CALSCALE:GREGORIAN
METHOD:PUBLISH
X-WR-CALNAME:Portal HR - HRtrendy.pl  - aktualności i wydarzenia HR. Nowości z rynku pracy
X-ORIGINAL-URL:https://www.hrtrendy.pl
X-WR-CALDESC:Events for Portal HR - HRtrendy.pl  - aktualności i wydarzenia HR. Nowości z rynku pracy
BEGIN:VEVENT
DTSTART;VALUE=DATE:20180616
DTEND;VALUE=DATE:20180616
DTSTAMP:20260424T172854
CREATED:20180309
LAST-MODIFIED:20180309
UID:16954-1529107200-1529193599@www.hrtrendy.pl
SUMMARY:Bieg firmowy 2018
DESCRIPTION:Bieg firmowy to sportowa rywalizacja między pięcioosobowymi zespołami złożonymi z pracowników firm. Każdy z uczestników będzie miał do pokonania trasę liczącą blisko 5 kilometrów. Ponadto w tym roku zwiększono limit uczestników i na biegaczy czeka aż 3 500 pakietów startowych. Będzie to już szósta edycja jednej z największych firmowych imprez sportowych organizowanych w Warszawie. W zeszłym roku w wydarzeniu uczestniczyło aż 2500 biegaczy ze stolicy Polski.\n\nWięcej informacji również na naszej stronie - http://www.hrtrendy.pl/2018/03/09/warszawskie-firmy-pobiegna-z-pomoca/
URL:https://www.hrtrendy.pl/wydarzenie_hr/bieg-firmowy-2018/
LOCATION:Warszawa\, mazowieckie\, Polska
CATEGORIES:Konkurs
ATTACH;FMTTYPE=image/jpeg:https://www.hrtrendy.pl/wp-content/uploads/2018/03/MOS_3614.jpg
END:VEVENT
END:VCALENDAR